BEGIN:VCALENDAR
VERSION:2.0
PRODID:-//Data Products LLC - ECPv6.15.17.1//NONSGML v1.0//EN
CALSCALE:GREGORIAN
METHOD:PUBLISH
X-WR-CALNAME:Data Products LLC
X-ORIGINAL-URL:https://dataproducts.io
X-WR-CALDESC:Events for Data Products LLC
REFRESH-INTERVAL;VALUE=DURATION:PT1H
X-Robots-Tag:noindex
X-PUBLISHED-TTL:PT1H
BEGIN:VTIMEZONE
TZID:America/Chicago
BEGIN:DAYLIGHT
TZOFFSETFROM:-0600
TZOFFSETTO:-0500
TZNAME:CDT
DTSTART:20180311T080000
END:DAYLIGHT
BEGIN:STANDARD
TZOFFSETFROM:-0500
TZOFFSETTO:-0600
TZNAME:CST
DTSTART:20181104T070000
END:STANDARD
BEGIN:DAYLIGHT
TZOFFSETFROM:-0600
TZOFFSETTO:-0500
TZNAME:CDT
DTSTART:20190310T080000
END:DAYLIGHT
BEGIN:STANDARD
TZOFFSETFROM:-0500
TZOFFSETTO:-0600
TZNAME:CST
DTSTART:20191103T070000
END:STANDARD
BEGIN:DAYLIGHT
TZOFFSETFROM:-0600
TZOFFSETTO:-0500
TZNAME:CDT
DTSTART:20200308T080000
END:DAYLIGHT
BEGIN:STANDARD
TZOFFSETFROM:-0500
TZOFFSETTO:-0600
TZNAME:CST
DTSTART:20201101T070000
END:STANDARD
BEGIN:DAYLIGHT
TZOFFSETFROM:-0600
TZOFFSETTO:-0500
TZNAME:CDT
DTSTART:20210314T080000
END:DAYLIGHT
BEGIN:STANDARD
TZOFFSETFROM:-0500
TZOFFSETTO:-0600
TZNAME:CST
DTSTART:20211107T070000
END:STANDARD
END:VTIMEZONE
BEGIN:VEVENT
DTSTART;TZID=America/Chicago:20200729T123000
DTEND;TZID=America/Chicago:20200731T133000
DTSTAMP:20260419T164917
CREATED:20240124T224448Z
LAST-MODIFIED:20240506T155708Z
UID:10765-1596025800-1596202200@dataproducts.io
SUMMARY:SAME Facilities Management Workshop
DESCRIPTION:Data Products Principal Data Strategist Dr. Mechie Nkengla will present at the SAME Facilities Management Workshop on July 29th\, 12:30-1:30pm on the topic of “Artificial Intelligence and Improving the IQ of ‘Smart’ Buildings.” We are looking forward to furthering the conversations around enhanced building security\, more efficient use of resources\, and improving communities.
URL:https://dataproducts.io/event/same-facilities-management-workshop/
LOCATION:Facilities management Workshop
CATEGORIES:Articles
ATTACH;FMTTYPE=image/png:https://dataproducts.io/wp-content/uploads/2020/07/FMW-Virtual-speaker.png
END:VEVENT
BEGIN:VEVENT
DTSTART;TZID=America/Chicago:20200517T080000
DTEND;TZID=America/Chicago:20200517T170000
DTSTAMP:20260419T164917
CREATED:20240506T160149Z
LAST-MODIFIED:20240506T160149Z
UID:10769-1589702400-1589734800@dataproducts.io
SUMMARY:High Tea with i.c. stars
DESCRIPTION:Our Principal Data Strategist was proud to be a speaker for i.c.stars this past Friday working with future leaders to develop skills in technology.
URL:https://dataproducts.io/event/high-tea-with-i-c-stars/
LOCATION:IL
CATEGORIES:Articles
ATTACH;FMTTYPE=image/png:https://dataproducts.io/wp-content/uploads/2020/05/High-Tea-i.c.-stars.png
END:VEVENT
BEGIN:VEVENT
DTSTART;TZID=America/Chicago:20200109T080000
DTEND;TZID=America/Chicago:20200109T113000
DTSTAMP:20260419T164917
CREATED:20240506T163807Z
LAST-MODIFIED:20240506T163807Z
UID:10779-1578556800-1578569400@dataproducts.io
SUMMARY:2nd Annual Supplier Diversity Symposium
DESCRIPTION:Dept. of Healthcare & Family Services – Chicago\, IL – Attendee
URL:https://dataproducts.io/event/2nd-annual-supplier-diversity-symposium/
LOCATION:IL
CATEGORIES:Articles
ATTACH;FMTTYPE=image/jpeg:https://dataproducts.io/wp-content/uploads/2020/01/Diversity-Symposium1.jpg
END:VEVENT
BEGIN:VEVENT
DTSTART;TZID=America/Chicago:20191016T080000
DTEND;TZID=America/Chicago:20191016T170000
DTSTAMP:20260419T164917
CREATED:20240506T165303Z
LAST-MODIFIED:20240506T165303Z
UID:10786-1571212800-1571245200@dataproducts.io
SUMMARY:Cook County Vendor Expo
DESCRIPTION:Chicago\, IL – Attendee
URL:https://dataproducts.io/event/cook-county-vendor-expo/
LOCATION:IL
CATEGORIES:Articles
ATTACH;FMTTYPE=image/jpeg:https://dataproducts.io/wp-content/uploads/2020/01/Cook-County-logo-1.jpg
END:VEVENT
BEGIN:VEVENT
DTSTART;TZID=America/Chicago:20190924T080000
DTEND;TZID=America/Chicago:20190924T170000
DTSTAMP:20260419T164917
CREATED:20240506T211011Z
LAST-MODIFIED:20240506T211011Z
UID:10794-1569312000-1569344400@dataproducts.io
SUMMARY:Snowflake Summit Chicago
DESCRIPTION:Palmer House – Chicago\, IL – Attendee
URL:https://dataproducts.io/event/snowflake-summit-chicago/
LOCATION:Palmer House\, Chicago\, IL\, United States
CATEGORIES:Articles
ATTACH;FMTTYPE=image/jpeg:https://dataproducts.io/wp-content/uploads/2020/01/Mechie-Snowflake-summit.jpg
END:VEVENT
BEGIN:VEVENT
DTSTART;TZID=America/Chicago:20190920T080000
DTEND;TZID=America/Chicago:20190920T170000
DTSTAMP:20260419T164917
CREATED:20240506T211219Z
LAST-MODIFIED:20240506T211219Z
UID:10797-1568966400-1568998800@dataproducts.io
SUMMARY:IEEE Women in Engineering AI Leadership Summit
DESCRIPTION:Nokia Auditorium – Naperville\, IL – Attendee
URL:https://dataproducts.io/event/ieee-women-in-engineering-ai-leadership-summit/
LOCATION:IL
CATEGORIES:Articles
ATTACH;FMTTYPE=image/jpeg:https://dataproducts.io/wp-content/uploads/2020/01/IEEE-leadership-summit.jpg
END:VEVENT
BEGIN:VEVENT
DTSTART;TZID=America/Chicago:20190806T080000
DTEND;TZID=America/Chicago:20190806T170000
DTSTAMP:20260419T164917
CREATED:20240506T211631Z
LAST-MODIFIED:20240506T211631Z
UID:10803-1565078400-1565110800@dataproducts.io
SUMMARY:ChallengeHer: Opportunities for Women in Federal Contracting
DESCRIPTION:University of Illinois at Chicago -Chicago\, IL – Attendee
URL:https://dataproducts.io/event/challengeher-opportunities-for-women-in-federal-contracting/
LOCATION:University of Illinois Chicago\, 1200 W Harrison St\, Chicago\, IL\, 60607\, United States
CATEGORIES:Articles
END:VEVENT
END:VCALENDAR